BEGIN:VCALENDAR
VERSION:2.0
PRODID:-//ChamberMaster//Event Calendar 2.0//EN
METHOD:PUBLISH
X-PUBLISHED-TTL:P3D
REFRESH-INTERVAL:P3D
CALSCALE:GREGORIAN
BEGIN:VEVENT
DTSTART:20211215T160000Z
DTEND:20211215T210000Z
X-MICROSOFT-CDO-ALLDAYEVENT:FALSE
SUMMARY:Rock Enroll
DESCRIPTION:Join us for "DMACC Presents: #RockEnroll" from 10 a.m.-3 p.m. on Wednesday\, Dec. 15\, at #DMACC campus near YOU! During this FREE\, in-person event\, DMACC staff members will be ready to help prospective students apply to DMACC\, register for Spring classes and answer any questions\, one-on-one. Current DMACC students who need assistance or who have any questions are also welcome and encouraged to attend. We'll be giving away fun DMACC swag and prizes including digital music gift cards\, while supplies last\, and an exciting grand prize you won't want to miss out on ? throughout the event.? PLUS\, ?arrive early and you'll receive a VIP lanyard! Learn more at http://rockenroll.dmacc.edu\, and make plans to join us on Dec. 15! EVENT LOCATIONS: - Ankeny Campus\, Bldg. 1 (FREE Subway sandwiches provided) - Urban Campus in Des Moines\, Bldg. 7 - West Des Moines Campus - Boone Campus - Carroll Campus - Newton Campus
X-ALT-DESC;FMTTYPE=text/html:Join us for &quot\;DMACC Presents: #RockEnroll&quot\; from 10 a.m.-3 p.m. on Wednesday\, Dec. 15\, at #DMACC campus near YOU! During this FREE\, in-person event\, DMACC staff members will be ready to help prospective students apply to DMACC\, register for Spring classes and answer any questions\, one-on-one. Current DMACC students who need assistance or who have any questions are also welcome and encouraged to attend. We&#39\;ll be giving away fun DMACC swag and prizes including digital music gift cards\, while supplies last\, and an exciting grand prize you won&#39\;t want to miss out on ? throughout the event.? PLUS\, ?arrive early and you&#39\;ll receive a VIP lanyard! Learn more at http://rockenroll.dmacc.edu\, and make plans to join us on Dec. 15! EVENT LOCATIONS: - Ankeny Campus\, Bldg. 1 (FREE Subway sandwiches provided) - Urban Campus in Des Moines\, Bldg. 7 - West Des Moines Campus - Boone Campus - Carroll Campus - Newton Campus
LOCATION:
UID:e.1185.12226
SEQUENCE:3
DTSTAMP:20260424T230750Z
URL:http://getaquote-mobile.uniquelyurbandale.com/events/details/rock-enroll-12226
END:VEVENT

END:VCALENDAR
