BEGIN:VCALENDAR
VERSION:2.0
PRODID:-//ChamberMaster//Event Calendar 2.0//EN
METHOD:PUBLISH
X-PUBLISHED-TTL:P3D
REFRESH-INTERVAL:P3D
CALSCALE:GREGORIAN
BEGIN:VEVENT
DTSTART:20210813T160000Z
DTEND:20210813T170000Z
X-MICROSOFT-CDO-ALLDAYEVENT:FALSE
SUMMARY:Ribbon Cutting - Trainers Edge
DESCRIPTION:Ribbon Cutting for Trainers Edge\n\n\n\nTrainers Edge is a new personal training facility in Urbandale! Opened during Covid\, we're excited to have a facility where personal trainers can work for themselves to build their own businesses!
X-ALT-DESC;FMTTYPE=text/html:<span style="font-family:arial\;"><span style="font-size:14px\;"><strong>Ribbon Cutting for Trainers Edge<br />\n<br />\nTrainers Edge is a new personal training facility in Urbandale! Opened during Covid\, we&rsquo\;re excited to have a facility where personal trainers can work for themselves to build their own businesses!</strong></span></span>
LOCATION:3845 100th St Urbandale\, IA 50322
UID:e.1185.11320
SEQUENCE:3
DTSTAMP:20260424T171816Z
URL:http://getaquote-mobile.uniquelyurbandale.com/events/details/ribbon-cutting-trainers-edge-11320
END:VEVENT

END:VCALENDAR
