BEGIN:VCALENDAR
VERSION:2.0
PRODID:-//ChamberMaster//Event Calendar 2.0//EN
METHOD:PUBLISH
X-PUBLISHED-TTL:P3D
REFRESH-INTERVAL:P3D
CALSCALE:GREGORIAN
BEGIN:VEVENT
DTSTART:20201113T220000Z
DTEND:20201113T233000Z
X-MICROSOFT-CDO-ALLDAYEVENT:FALSE
SUMMARY:Ribbon Cutting - Tint World\, Urbandale\, IA
DESCRIPTION:Announcing the opening of the Tint World\, Urbandale\, IA! This is the first Tint World Location in Iowa. Tint World features window tinting\, detailing\, ceramic coating\, paint protection film\, vehicle wrap\, truck accessories\, wheels\, tires\, car audio\, led lighting\, alarms\, remote starts\, marine audio\, power sports\, bed liners\, and more. Come learn how they can help you with all your automotive accessories!\n\n\n\nFace coverings will be required for the duration of the event.
X-ALT-DESC;FMTTYPE=text/html:<p><span style="font-size:14px\;"><span style="font-family:arial\;">Announcing the opening of the&nbsp\;Tint World\, Urbandale\, IA! This is the first Tint World Location in Iowa. Tint World features window tinting\, detailing\, ceramic coating\, paint protection film\, vehicle wrap\, truck accessories\, wheels\, tires\, car audio\, led lighting\, alarms\, remote starts\, marine audio\, power sports\, bed liners\, and more. Come learn how they can&nbsp\;help you with all your automotive accessories!<br />\n<br />\nFace coverings will be required for the duration of the event.&nbsp\;</span></span></p>\n
LOCATION:Tint World\, Urbandale\, IA 3970 NW Urbandale Drive Urbandale\, IA 50322
UID:e.1185.10970
SEQUENCE:3
DTSTAMP:20260424T060456Z
URL:http://getaquote-mobile.uniquelyurbandale.com/events/details/ribbon-cutting-tint-world-urbandale-ia-10970
END:VEVENT

END:VCALENDAR
