BEGIN:VCALENDAR
VERSION:2.0
PRODID:-//ChamberMaster//Event Calendar 2.0//EN
METHOD:PUBLISH
X-PUBLISHED-TTL:P3D
REFRESH-INTERVAL:P3D
CALSCALE:GREGORIAN
BEGIN:VEVENT
DTSTART:20210602T213000Z
DTEND:20210602T230000Z
X-MICROSOFT-CDO-ALLDAYEVENT:FALSE
SUMMARY:Ribbon Cutting - RE/MAX Precision Johnston
DESCRIPTION:Come celebrate the grand opening of RE/MAX Precision! RE/MAX Precision in Central Iowa's top brokerage with over 400 of the area's top Real Estate Agents. We are excited to have a new location in Johnston to be able to serve the community! Join us for a tour of our office\, to meet our realtors\, and to celebrate our first year in this location!\n\n\n\nThis is a joint event with the Johnston and Urbandale chambers. To register: https://johnstonchamber.com/news-events/events/#!event/register/2021/6/2/joint-ribbon-cutting-re-max-precision.
X-ALT-DESC;FMTTYPE=text/html:<p><span style="font-size:14px\;"><span style="font-family:arial\;"><strong>Come celebrate the grand opening of RE/MAX Precision!&nbsp\;</strong><span style="color: rgb(68\, 68\, 68)\;">RE/MAX Precision in Central Iowa&#39\;s top brokerage with over 400 of the area&#39\;s top Real Estate Agents. We are excited to have a new location in Johnston to be able to serve the community! Join us for a tour of our office\, to meet our realtors\, and to celebrate our first year in this location!<br />\n<br />\nThis is a joint event with the Johnston and Urbandale chambers. To register:&nbsp\;</span><a href="https://johnstonchamber.com/news-events/events/#!event/register/2021/6/2/joint-ribbon-cutting-re-max-precision">https://johnstonchamber.com/news-events/events/#!event/register/2021/6/2/joint-ribbon-cutting-re-max-precision</a>.&nbsp\;</span></span></p>\n
LOCATION:RE/MAX Precision 8705 Chambery Blvd Suite #100 Johnston\, Iowa 50131
UID:e.1185.11283
SEQUENCE:3
DTSTAMP:20260424T142044Z
URL:http://getaquote-mobile.uniquelyurbandale.com/events/details/ribbon-cutting-re-max-precision-johnston-11283
END:VEVENT

END:VCALENDAR
