BEGIN:VCALENDAR
VERSION:2.0
PRODID:-//ChamberMaster//Event Calendar 2.0//EN
METHOD:PUBLISH
X-PUBLISHED-TTL:P3D
REFRESH-INTERVAL:P3D
CALSCALE:GREGORIAN
BEGIN:VEVENT
DTSTART:20210929T210000Z
DTEND:20210929T230000Z
X-MICROSOFT-CDO-ALLDAYEVENT:FALSE
SUMMARY:Ribbon Cutting - Plaza Florist
DESCRIPTION:Please join us to celebrate Plaza Florist's 1 year anniversary on 100th St. and 65 years in business! \n\n\n\nRED CARPET EVENT
X-ALT-DESC;FMTTYPE=text/html:<span style="font-size:18px\;"><span style="font-family:arial\,sans-serif\;"><span style="font-family:arial\;">Please join us to celebrate Plaza Florist&#39\;s 1 year anniversary on 100th St. and 65 years in business!&nbsp\;<br />\n<br />\n<strong><span style="color:#FF0000\;">RED CARPET EVENT</span></strong></span></span></span>
LOCATION:2805 100th St. Urbandale\, IA 50322
UID:e.1185.11327
SEQUENCE:3
DTSTAMP:20260424T183903Z
URL:http://getaquote-mobile.uniquelyurbandale.com/events/details/ribbon-cutting-plaza-florist-11327
END:VEVENT

END:VCALENDAR
