BEGIN:VCALENDAR
VERSION:2.0
PRODID:-//ChamberMaster//Event Calendar 2.0//EN
METHOD:PUBLISH
X-PUBLISHED-TTL:P3D
REFRESH-INTERVAL:P3D
CALSCALE:GREGORIAN
BEGIN:VEVENT
DTSTART:20210819T193000Z
DTEND:20210819T223000Z
X-MICROSOFT-CDO-ALLDAYEVENT:FALSE
SUMMARY:Ribbon Cutting - OPEN HOUSE Communications Engineering Company
DESCRIPTION:OPEN HOUSE | GRAND OPENING | RIBBON CUTTING\n\n\n\nCome celebrate the grand opening of CEC at their new location in Urbandale! CEC works with customers to custom design\, implement\, and service technology solutions to address their specific business needs. \n\n\n\nMore information can be found on their website\n\nhttps://www.cecinfo.com/about-cec/news-and-events/events/cecs-75th-anniversary-events/.\n\n\n\nRegister at https://www.eventbrite.com/e/des-moines-open-house-tickets-142275418607.
X-ALT-DESC;FMTTYPE=text/html:<p><span style="font-size:14px\;"><span style="font-family:arial\;"><span style="color:#0000CD\;"><strong>OPEN HOUSE | GRAND OPENING | RIBBON CUTTING</strong></span><br />\n<br />\nCome celebrate the grand opening of CEC at their new location in Urbandale!&nbsp\;<span style="color: rgb(68\, 68\, 68)\;">CEC works with customers to custom design\, implement\, and service technology solutions to address their specific business needs.&nbsp\;</span><br />\n<br />\n<font style="color: rgb(33\, 33\, 33)\; font-family: sans-serif\, serif\, EmojiFont\;">More information can be found on their website<br />\n<a href="https://www.cecinfo.com/about-cec/news-and-events/events/cecs-75th-anniversary-events/">https://www.cecinfo.com/about-cec/news-and-events/events/cecs-75th-anniversary-events/</a>.<br />\n<br />\n<a href="https://www.eventbrite.com/e/des-moines-open-house-tickets-142275418607">Register at https://www.eventbrite.com/e/des-moines-open-house-tickets-142275418607</a>.</font></span></span></p>\n
LOCATION:Communications Engineering Company 4617 121st Street Urbandale\, Iowa 50323
UID:e.1185.11282
SEQUENCE:3
DTSTAMP:20260424T171925Z
URL:http://getaquote-mobile.uniquelyurbandale.com/events/details/ribbon-cutting-open-house-communications-engineering-company-11282
END:VEVENT

END:VCALENDAR
