BEGIN:VCALENDAR
VERSION:2.0
PRODID:-//ChamberMaster//Event Calendar 2.0//EN
METHOD:PUBLISH
X-PUBLISHED-TTL:P3D
REFRESH-INTERVAL:P3D
CALSCALE:GREGORIAN
BEGIN:VEVENT
DTSTART:20200616T170000Z
DTEND:20200616T180000Z
X-MICROSOFT-CDO-ALLDAYEVENT:FALSE
SUMMARY:Ribbon Cutting - Living History Farms
DESCRIPTION:Please join us for a Ribbon Cutting at Living History Farms to celebrate their 50th anniversary season and opening of the newly opened Red Barn exhibit space. Enjoy a sarsaparilla and celebrate with us!
X-ALT-DESC;FMTTYPE=text/html:Please join us for a Ribbon Cutting at Living History Farms to celebrate their 50th anniversary season and opening of the newly opened Red Barn exhibit space.&nbsp\;Enjoy a sarsaparilla and celebrate with us!
LOCATION:Please park in the main visitor lot in front of the Visitor Center. All guests will need to enter the building in order to receive a complimentary admission sticker. From there\, a staff member will guide guests to the location of the Red Barn building.
UID:e.1185.10812
SEQUENCE:3
DTSTAMP:20260423T230755Z
URL:http://getaquote-mobile.uniquelyurbandale.com/events/details/ribbon-cutting-living-history-farms-10812
END:VEVENT

END:VCALENDAR
