BEGIN:VCALENDAR
VERSION:2.0
PRODID:-//ChamberMaster//Event Calendar 2.0//EN
METHOD:PUBLISH
X-PUBLISHED-TTL:P3D
REFRESH-INTERVAL:P3D
CALSCALE:GREGORIAN
BEGIN:VEVENT
DTSTART:20201012T220000Z
DTEND:20201012T230000Z
X-MICROSOFT-CDO-ALLDAYEVENT:FALSE
SUMMARY:Ribbon Cutting - Horizon Events Center
DESCRIPTION:Join us to celebrate the new athletic opportunities at Horizon Events Center! Horizon Events Center brings all the capabilities of a full-service event venue to our community. Come learn what new things the Horizon Events Center has to offer!\n\n\n\nBefore the ribbon cutting\, join us for Connect @4\, Presented by Jacobs Real Estate Partners - EXP Realty from 4 pm to 5 pm. This event is a great opportunity to network with people from a variety of different businesses. Register here!
X-ALT-DESC;FMTTYPE=text/html:<span style="color:#000000\;"><span style="font-size:14px\;"><span style="font-family:arial\;">Join us to celebrate the new athletic opportunities at Horizon Events Center!&nbsp\;Horizon Events Center brings all the capabilities of a full-service event venue to our community. Come learn what new things the Horizon Events Center has to offer!<br />\n<br />\nBefore the ribbon cutting\, join us for Connect @4\, Presented by Jacobs Real Estate Partners - EXP Realty from 4 pm to 5 pm. This event is a great opportunity to network with people from a variety of different businesses.&nbsp\;<a href="http://businesses.uniquelyurbandale.com/events/details/connect-4-presented-by-jacobs-real-estate-partners-exp-realty-10823?calendarMonth=2020-10-01">Register here</a>!&nbsp\;</span></span></span>
LOCATION:Horizon Events Center\, 2100 NW 100th Street\, Clive\, IA 50325
UID:e.1185.10959
SEQUENCE:3
DTSTAMP:20260424T031434Z
URL:http://getaquote-mobile.uniquelyurbandale.com/events/details/ribbon-cutting-horizon-events-center-10959
END:VEVENT

END:VCALENDAR
