BEGIN:VCALENDAR
VERSION:2.0
PRODID:-//ChamberMaster//Event Calendar 2.0//EN
METHOD:PUBLISH
X-PUBLISHED-TTL:P3D
REFRESH-INTERVAL:P3D
CALSCALE:GREGORIAN
BEGIN:VEVENT
DTSTART:20201019T210000Z
DTEND:20201019T220000Z
X-MICROSOFT-CDO-ALLDAYEVENT:FALSE
SUMMARY:Ribbon Cutting - Fittings Unlimited
DESCRIPTION:Fittings Unlimited has moved!! Fittings Unlimited is dedicated to finding the perfect solution for your medical needs to help you get back to a better\, more comfortable life. Their trained staff are experts in helping you find the right garment for your condition and ensuring it?s the right fit. Come learn more and celebrate the new Fittings Unlimited location!\n\n\n\nFace coverings will be required for all attendees for the duration of the event.
X-ALT-DESC;FMTTYPE=text/html:<p><span style="font-size:14px\;"><span style="font-family:arial\;">Fittings Unlimited has moved!! Fittings Unlimited is dedicated to finding the perfect solution for your medical needs to help you get back to a better\, more comfortable life. Their&nbsp\;trained staff are experts in helping you find the right garment for your condition and ensuring it?s the right fit. Come learn more and celebrate the new Fittings Unlimited location!<br />\n<br />\nFace coverings&nbsp\;will be required for all attendees for the duration of the event.</span></span></p>\n
LOCATION:Fittings Unlimited 3257 100th St\, Urbandale\, IA 50322
UID:e.1185.10967
SEQUENCE:3
DTSTAMP:20260424T031541Z
URL:http://getaquote-mobile.uniquelyurbandale.com/events/details/ribbon-cutting-fittings-unlimited-10967
END:VEVENT

END:VCALENDAR
