BEGIN:VCALENDAR
VERSION:2.0
PRODID:-//ChamberMaster//Event Calendar 2.0//EN
METHOD:PUBLISH
X-PUBLISHED-TTL:P3D
REFRESH-INTERVAL:P3D
CALSCALE:GREGORIAN
BEGIN:VEVENT
DTSTART:20201016T163000Z
DTEND:20201016T173000Z
X-MICROSOFT-CDO-ALLDAYEVENT:FALSE
SUMMARY:Ribbon Cutting - Farrell's Martial Arts
DESCRIPTION:Farrell's Martial Arts has moved to Urbandale combining two of their schools into one from Beaverdale and Waukee into a brand new Urbandale location! Farrell's Martial Arts has offered Martial Arts & Taekwondo training in the Des Moines area since 1989. Their well-equipped facilities are open six days a week\, with flexible class times that can accommodate the most challenging of family schedules. Come learn more about Farrell's Martial Arts and welcome them to the Urbandale community!\n\n\n\nFace coverings are required for the duration of the event.
X-ALT-DESC;FMTTYPE=text/html:<p><span style="font-size:14px\;"><span style="font-family:arial\;">Farrell&#39\;s Martial Arts has&nbsp\;moved to Urbandale&nbsp\;combining two of their schools into one from Beaverdale and Waukee into a brand new Urbandale location!&nbsp\;Farrell&#39\;s Martial Arts&nbsp\;has offered Martial Arts &amp\; Taekwondo&nbsp\;training in the Des Moines area since 1989. Their well-equipped facilities&nbsp\;are open six days a week\, with flexible class times that can accommodate the most challenging of family schedules. Come learn more about Farrell&#39\;s Martial Arts and welcome them to the Urbandale community!<br />\n<br />\n<strong>Face coverings are required for the duration of the event.</strong></span></span></p>\n
LOCATION:Farrell's Martial Arts 3843 121st Street Urbandale\, IA 50323
UID:e.1185.10964
SEQUENCE:3
DTSTAMP:20260424T031424Z
URL:http://getaquote-mobile.uniquelyurbandale.com/events/details/ribbon-cutting-farrell-s-martial-arts-10964
END:VEVENT

END:VCALENDAR
