BEGIN:VCALENDAR
VERSION:2.0
PRODID:-//ChamberMaster//Event Calendar 2.0//EN
METHOD:PUBLISH
X-PUBLISHED-TTL:P3D
REFRESH-INTERVAL:P3D
CALSCALE:GREGORIAN
BEGIN:VEVENT
DTSTART:20210423T163000Z
DTEND:20210423T173000Z
X-MICROSOFT-CDO-ALLDAYEVENT:FALSE
SUMMARY:Ribbon Cutting - Farrell's eXtreme Bodyshaping Urbandale
DESCRIPTION:Help us celebrate the new owners of Farrell's eXtreme Bodyshaping Urbandale\, Nicholas Cicero and Denise Walker De Hamer! Come one\, come all! Spread the word! Come support Nick and Denise in their awesome new venture! This Friday\, April 23rd at 11:30 am! Celebrate with a ribbon cutting ceremony in their parking lot at the "U" and tour inside! You can view an actual kickboxing class at noon! Come out to support and celebrate with us! \n\n\n\nAt Farrell's eXtreme Bodyshaping\, they provide extreme support\, extreme encouragement\, and extreme accountability that generates extreme results so you feel extreme pride. With their program\, you'll live a more empowered life: physically and emotionally.\n\n\n\nMasks will be required for the duration of the event.
X-ALT-DESC;FMTTYPE=text/html:<p><span style="color:#000000\;"><span style="font-size:14px\;"><span style="font-family:arial\;"><strong>Help us celebrate the new owners of Farrell&#39\;s eXtreme Bodyshaping Urbandale\,&nbsp\;Nicholas Cicero and Denise Walker De Hamer!&nbsp\;</strong><span helvetica="" segoe="">Come one\, come all! Spread the word! Come support Nick and Denise in their awesome new venture!&nbsp\;</span><span helvetica="" segoe="">This Friday\, April 23rd at 11:30 am! Celebrate with a ribbon cutting ceremony in their&nbsp\;parking lot at the &quot\;U&quot\; and tour inside! You can view an actual kickboxing class at noon!&nbsp\;</span><span helvetica="" segoe="">Come out to support&nbsp\;and celebrate with us!&nbsp\;</span><br />\n<br />\nAt Farrell&#39\;s eXtreme Bodyshaping\,&nbsp\;they provide extreme support\, extreme encouragement\, and extreme accountability that generates extreme results so you feel extreme pride. With their&nbsp\;program\, you&#39\;ll live a more empowered life: physically and emotionally.<br />\n<br />\n<strong>Masks will be required for the duration of the event.</strong></span></span></span><br />\n<br />\n&nbsp\;</p>\n
LOCATION:Farrell's eXtreme Bodyshaping Urbandale 8801 Hickman Road\, Urbandale\, IA 50322
UID:e.1185.11272
SEQUENCE:3
DTSTAMP:20260424T111151Z
URL:http://getaquote-mobile.uniquelyurbandale.com/events/details/ribbon-cutting-farrell-s-extreme-bodyshaping-urbandale-11272
END:VEVENT

END:VCALENDAR
