BEGIN:VCALENDAR
VERSION:2.0
PRODID:-//ChamberMaster//Event Calendar 2.0//EN
METHOD:PUBLISH
X-PUBLISHED-TTL:P3D
REFRESH-INTERVAL:P3D
CALSCALE:GREGORIAN
BEGIN:VEVENT
DTSTART:20150326T220000Z
DTEND:20150327T000000Z
X-MICROSOFT-CDO-ALLDAYEVENT:FALSE
SUMMARY:Ribbon cutting event Old School Arcade & Pinball
DESCRIPTION:Join us for a ribbon cutting event celebrating the grand opening of Old School Arcade & Pinball on Thursday\, March 26th from 5-7 pm.  Ribbon cutting ceremony will take place at 5:15 pm.  They are located in the heart of Grimes at 209 SE Main Street.  Hope to see you there!
X-ALT-DESC;FMTTYPE=text/html:Join us for a ribbon cutting event celebrating the grand opening of Old School Arcade &amp\; Pinball on Thursday\, March 26th from 5-7 pm. &nbsp\;Ribbon cutting ceremony will take place at 5:15 pm. &nbsp\;They are located in the heart of Grimes at 209 SE Main Street. &nbsp\;Hope to see you there!
LOCATION:209 SE Main Street\, Grimes
UID:e.1185.4188
SEQUENCE:3
DTSTAMP:20260419T222523Z
URL:http://getaquote-mobile.uniquelyurbandale.com/events/details/ribbon-cutting-event-old-school-arcade-pinball-03-26-2015-4188
END:VEVENT

END:VCALENDAR
