BEGIN:VCALENDAR
VERSION:2.0
PRODID:-//ChamberMaster//Event Calendar 2.0//EN
METHOD:PUBLISH
X-PUBLISHED-TTL:P3D
REFRESH-INTERVAL:P3D
CALSCALE:GREGORIAN
BEGIN:VEVENT
DTSTART:20150518T220000Z
DTEND:20150519T000000Z
X-MICROSOFT-CDO-ALLDAYEVENT:FALSE
SUMMARY:Ribbon cutting event for World Financial Group
DESCRIPTION:Please join us to celebrate the new location of World Financial Group on Monday\, May 18th from 5-7 pm.  Ribbon cutting ceremony will take place at 5:15 pm.  World Financial Group is now located at 3711 1/2 Douglas Ave in Des Moines.  Please note: Entrance will be in the back side of the building\, not the front.  Hope to see you there!
X-ALT-DESC;FMTTYPE=text/html:Please join us to celebrate the new location of World Financial Group on Monday\, May 18th from 5-7 pm. &nbsp\;Ribbon cutting ceremony will take place at 5:15 pm. &nbsp\;World Financial Group is now located at 3711 1/2 Douglas Ave in Des Moines. &nbsp\;Please note: Entrance will be in the back side of the building\, not the front. &nbsp\;Hope to see you there!
LOCATION:World Financial Group is now located at 3711 1/2 Douglas Ave in Des Moines
UID:e.1185.4214
SEQUENCE:3
DTSTAMP:20260420T012747Z
URL:http://getaquote-mobile.uniquelyurbandale.com/events/details/ribbon-cutting-event-for-world-financial-group-05-18-2015-4214
END:VEVENT

END:VCALENDAR
