BEGIN:VCALENDAR
VERSION:2.0
PRODID:-//ChamberMaster//Event Calendar 2.0//EN
METHOD:PUBLISH
X-PUBLISHED-TTL:P3D
REFRESH-INTERVAL:P3D
CALSCALE:GREGORIAN
BEGIN:VEVENT
DTSTART:20140612T210000Z
DTEND:20140612T230000Z
X-MICROSOFT-CDO-ALLDAYEVENT:FALSE
SUMMARY:Ribbon cutting event for Woodharbor Kitchen & Bath
DESCRIPTION:Please join us to celebrate the five year anniversary and expansion of Woodharbor Kitchen & Bath on Thursday\, June 12th from 4-6 pm.  Ribbon cutting ceremony will begin at 4:15 pm.  They are located at 3904 NW Urbandale Drive in Urbandale.
X-ALT-DESC;FMTTYPE=text/html:Please join us to celebrate the five year anniversary and expansion of Woodharbor Kitchen &amp\; Bath on Thursday\, June 12th from 4-6 pm. &nbsp\;Ribbon cutting ceremony will begin at 4:15 pm. &nbsp\;They are located at 3904 NW Urbandale&nbsp\;Drive in Urbandale.&nbsp\;&nbsp\;&nbsp\;&nbsp\;
LOCATION:904 NW Urbandale Drive in Urbandale.
UID:e.1185.3918
SEQUENCE:3
DTSTAMP:20260419T152635Z
URL:http://getaquote-mobile.uniquelyurbandale.com/events/details/ribbon-cutting-event-for-woodharbor-kitchen-bath-06-12-2014-3918
END:VEVENT

END:VCALENDAR
