BEGIN:VCALENDAR
VERSION:2.0
PRODID:-//ChamberMaster//Event Calendar 2.0//EN
METHOD:PUBLISH
X-PUBLISHED-TTL:P3D
REFRESH-INTERVAL:P3D
CALSCALE:GREGORIAN
BEGIN:VEVENT
DTSTART:20141110T220000Z
DTEND:20141110T230000Z
X-MICROSOFT-CDO-ALLDAYEVENT:FALSE
SUMMARY:Ribbon cutting event for WineShop at Home
DESCRIPTION:Please join us for a ribbon cutting event celebrating the grand opening of WineShop at Home on Monday\, November 10th from 4-5 pm at the RODAN Board Room\, Urbandale Chamber of Commerce (2830 100th Street\, Ste 110).  Ribbon cutting ceremony will begin at 4:15 pm. Hope to see you there!
X-ALT-DESC;FMTTYPE=text/html:Please join us for a ribbon cutting event celebrating the grand opening of WineShop at Home on Monday\, November 10th from 4-5 pm at the RODAN Board Room\, Urbandale Chamber of Commerce (2830 100th Street\, Ste 110). &nbsp\;Ribbon cutting ceremony will begin at 4:15 pm. Hope to see you there!
LOCATION:RODAN Board Room\, Urbandale Chamber of Commerce (2830 100th Street\, Ste 110).
UID:e.1185.4124
SEQUENCE:3
DTSTAMP:20260419T165248Z
URL:http://getaquote-mobile.uniquelyurbandale.com/events/details/ribbon-cutting-event-for-wineshop-at-home-11-10-2014-4124
END:VEVENT

END:VCALENDAR
