BEGIN:VCALENDAR
VERSION:2.0
PRODID:-//ChamberMaster//Event Calendar 2.0//EN
METHOD:PUBLISH
X-PUBLISHED-TTL:P3D
REFRESH-INTERVAL:P3D
CALSCALE:GREGORIAN
BEGIN:VEVENT
DTSTART:20150508T220000Z
DTEND:20150509T010000Z
X-MICROSOFT-CDO-ALLDAYEVENT:FALSE
SUMMARY:Ribbon cutting event for Westpointe Apartments and Townhomes
DESCRIPTION:Join us for a ribbon cutting event to celebrate the grand opening of the new clubhouse at Westpointe Apartments and Townhomes on Friday\, May 8th from 5-8 pm.  Ribbon cutting ceremony will take place at 5:15 pm.  Westpointe is located at 2510 Canterbury Road in Urbandale.  Hope to see you there!
X-ALT-DESC;FMTTYPE=text/html:Join us for a ribbon cutting event to celebrate the grand opening of the new clubhouse at Westpointe Apartments and Townhomes on Friday\, May 8th from 5-8 pm. &nbsp\;Ribbon cutting ceremony will take place at 5:15 pm. &nbsp\;Westpointe is located at 2510 Canterbury Road in Urbandale. &nbsp\;Hope to see you there!
LOCATION:2510 Canterbury Road in Urbandale
UID:e.1185.4218
SEQUENCE:3
DTSTAMP:20260420T012854Z
URL:http://getaquote-mobile.uniquelyurbandale.com/events/details/ribbon-cutting-event-for-westpointe-apartments-and-townhomes-05-08-2015-4218
END:VEVENT

END:VCALENDAR
