BEGIN:VCALENDAR
VERSION:2.0
PRODID:-//ChamberMaster//Event Calendar 2.0//EN
METHOD:PUBLISH
X-PUBLISHED-TTL:P3D
REFRESH-INTERVAL:P3D
CALSCALE:GREGORIAN
BEGIN:VEVENT
DTSTART:20140224T150000Z
DTEND:20140224T233000Z
X-MICROSOFT-CDO-ALLDAYEVENT:FALSE
SUMMARY:Ribbon cutting event for Urbandale Chamber of Commerce
DESCRIPTION:Please join the Urbandale Chamber of Commerce for a grand opening event celebrating the move into a new office!  We will have an open house from 9-5:30 pm on Monday\, February 24th with a ribbon cutting ceremony taking place at 5:30.  Stop by anytime to see the new office located at 2830 100th Street\, Ste 110 in Urbandale.
X-ALT-DESC;FMTTYPE=text/html:Please join the Urbandale Chamber of Commerce for a grand opening event celebrating the move into a new office! &nbsp\;We will have an open house from 9-5:30 pm on Monday\, February 24th with a ribbon cutting ceremony taking place at 5:30. &nbsp\;Stop by anytime to see the new office located at 2830 100th Street\, Ste 110 in Urbandale. &nbsp\;
LOCATION:Urbandale Chamber of Commerce\, 2830 100th Street\, Ste 110
UID:e.1185.3777
SEQUENCE:3
DTSTAMP:20260419T211715Z
URL:http://getaquote-mobile.uniquelyurbandale.com/events/details/ribbon-cutting-event-for-urbandale-chamber-of-commerce-02-24-2014-3777
END:VEVENT

END:VCALENDAR
