BEGIN:VCALENDAR
VERSION:2.0
PRODID:-//ChamberMaster//Event Calendar 2.0//EN
METHOD:PUBLISH
X-PUBLISHED-TTL:P3D
REFRESH-INTERVAL:P3D
CALSCALE:GREGORIAN
BEGIN:VEVENT
DTSTART:20150311T200000Z
DTEND:20150311T230000Z
X-MICROSOFT-CDO-ALLDAYEVENT:FALSE
SUMMARY:Ribbon cutting event for Three Waggin' Tails
DESCRIPTION:Please join us to celebrate the one year anniversary of Three Waggin' Tails on Wednesday\, March 11th from 3-6 pm.  Ribbon cutting ceremony will take place at 3:15 pm and they are located at 2741 100th Street in Urbandale.  Hope to see you there!
X-ALT-DESC;FMTTYPE=text/html:Please join us to celebrate the one year anniversary of Three Waggin&#39\; Tails on Wednesday\, March 11th from 3-6 pm. &nbsp\;Ribbon cutting ceremony will take place at 3:15 pm and they are located at 2741 100th Street in Urbandale. &nbsp\;Hope to see you there!
LOCATION:2741 100th Street in Urbandale
UID:e.1185.4185
SEQUENCE:3
DTSTAMP:20260419T222315Z
URL:http://getaquote-mobile.uniquelyurbandale.com/events/details/ribbon-cutting-event-for-three-waggin-tails-03-11-2015-4185
END:VEVENT

END:VCALENDAR
