BEGIN:VCALENDAR
VERSION:2.0
PRODID:-//ChamberMaster//Event Calendar 2.0//EN
METHOD:PUBLISH
X-PUBLISHED-TTL:P3D
REFRESH-INTERVAL:P3D
CALSCALE:GREGORIAN
BEGIN:VEVENT
DTSTART:20140227T223000Z
DTEND:20140227T233000Z
X-MICROSOFT-CDO-ALLDAYEVENT:FALSE
SUMMARY:Ribbon cutting event for The Zone of Comfort
DESCRIPTION:Please join us for a ribbon cutting event celebrating the new location of The Zone of Comfort on Thursday\, February 27th from 4:30-5:30 pm.  Ribbon cutting ceremony will start at 4:45 pm.  They are located at 3000 SE Grimes Blvd\, Ste 500 in Grimes.  This will be a joint event with the Grimes Chamber of Commerce.
X-ALT-DESC;FMTTYPE=text/html:Please join us for a ribbon cutting event celebrating the new location of The Zone of Comfort on Thursday\, February 27th from 4:30-5:30 pm. &nbsp\;Ribbon cutting ceremony will start at 4:45 pm. &nbsp\;They are located at 3000 SE Grimes Blvd\, Ste 500 in Grimes. &nbsp\;This will be a joint event with the Grimes Chamber of Commerce.
LOCATION:3000 SE Grimes Blvd\, Ste 500 in Grimes
UID:e.1185.3816
SEQUENCE:3
DTSTAMP:20260419T222520Z
URL:http://getaquote-mobile.uniquelyurbandale.com/events/details/ribbon-cutting-event-for-the-zone-of-comfort-02-27-2014-3816
END:VEVENT

END:VCALENDAR
