BEGIN:VCALENDAR
VERSION:2.0
PRODID:-//ChamberMaster//Event Calendar 2.0//EN
METHOD:PUBLISH
X-PUBLISHED-TTL:P3D
REFRESH-INTERVAL:P3D
CALSCALE:GREGORIAN
BEGIN:VEVENT
DTSTART:20150506T210000Z
DTEND:20150506T223000Z
X-MICROSOFT-CDO-ALLDAYEVENT:FALSE
SUMMARY:Ribbon cutting event for The Notebook Cafe
DESCRIPTION:Please join us to celebrate The Notebook Cafe\, as they launch their new publication!  The event will be held at Things on Douglas (7611 Douglas\, Urbandale) on Wednesday\, May 6th from 4-5:30 pm.  Ribbon cutting ceremony will take place at 4:15 pm.  Hope to see you there!
X-ALT-DESC;FMTTYPE=text/html:Please join us to celebrate The Notebook Cafe\, as they launch their new publication! &nbsp\;The event will be held at Things on Douglas (7611 Douglas\, Urbandale) on Wednesday\, May 6th from 4-5:30 pm. &nbsp\;Ribbon cutting ceremony will take place at 4:15 pm. &nbsp\;Hope to see you there!
LOCATION:Things on Douglas (7611 Douglas\, Urbandale)
UID:e.1185.4213
SEQUENCE:3
DTSTAMP:20260420T011848Z
URL:http://getaquote-mobile.uniquelyurbandale.com/events/details/ribbon-cutting-event-for-the-notebook-cafe-05-06-2015-4213
END:VEVENT

END:VCALENDAR
