BEGIN:VCALENDAR
VERSION:2.0
PRODID:-//ChamberMaster//Event Calendar 2.0//EN
METHOD:PUBLISH
X-PUBLISHED-TTL:P3D
REFRESH-INTERVAL:P3D
CALSCALE:GREGORIAN
BEGIN:VEVENT
DTSTART:20150616T210000Z
DTEND:20150617T000000Z
X-MICROSOFT-CDO-ALLDAYEVENT:FALSE
SUMMARY:Ribbon cutting event for The Learning Post
DESCRIPTION:Please join us to celebrate the new ownership of The Learning Post on Tuesday\, June 16th from 4-7 pm.  Ribbon cutting ceremony will take place at 4:15 pm.  The Learning Post is located at 2761 100th Street in Urbandale.  Hope to see you there!
X-ALT-DESC;FMTTYPE=text/html:Please join us to celebrate the new ownership of The Learning Post on Tuesday\, June 16th from 4-7 pm. &nbsp\;Ribbon cutting ceremony will take place at 4:15 pm. &nbsp\;The Learning Post is located at 2761 100th Street in Urbandale. &nbsp\;Hope to see you there!
LOCATION:2761 100th Street in Urbandale
UID:e.1185.4228
SEQUENCE:3
DTSTAMP:20260420T024315Z
URL:http://getaquote-mobile.uniquelyurbandale.com/events/details/ribbon-cutting-event-for-the-learning-post-06-16-2015-4228
END:VEVENT

END:VCALENDAR
