BEGIN:VCALENDAR
VERSION:2.0
PRODID:-//ChamberMaster//Event Calendar 2.0//EN
METHOD:PUBLISH
X-PUBLISHED-TTL:P3D
REFRESH-INTERVAL:P3D
CALSCALE:GREGORIAN
BEGIN:VEVENT
DTSTART:20140414T220000Z
DTEND:20140415T000000Z
X-MICROSOFT-CDO-ALLDAYEVENT:FALSE
SUMMARY:Ribbon cutting event for The Iowa Clinic
DESCRIPTION:Please join us to celebrate the grand opening of The Iowa Clinic\, located at 4323 NW Urbandale Drive in Urbandale.  The event will take place on Monday\, April 14th from 5-7 pm with ribbon cutting ceremony taking place at 5:15 pm.  Hope to see you there!
X-ALT-DESC;FMTTYPE=text/html:Please join us to celebrate the grand opening of The Iowa Clinic\, located at 4323 NW Urbandale Drive in Urbandale. &nbsp\;The event will take place on Monday\, April 14th from 5-7 pm with ribbon cutting ceremony taking place at 5:15 pm. &nbsp\;Hope to see you there!
LOCATION:The Iowa Clinic\, located at 4323 NW Urbandale Drive in Urbandale
UID:e.1185.3895
SEQUENCE:3
DTSTAMP:20260419T180002Z
URL:http://getaquote-mobile.uniquelyurbandale.com/events/details/ribbon-cutting-event-for-the-iowa-clinic-04-14-2014-3895
END:VEVENT

END:VCALENDAR
