BEGIN:VCALENDAR
VERSION:2.0
PRODID:-//ChamberMaster//Event Calendar 2.0//EN
METHOD:PUBLISH
X-PUBLISHED-TTL:P3D
REFRESH-INTERVAL:P3D
CALSCALE:GREGORIAN
BEGIN:VEVENT
DTSTART:20140604T170000Z
DTEND:20140604T180000Z
X-MICROSOFT-CDO-ALLDAYEVENT:FALSE
SUMMARY:Ribbon cutting event for Sylvan of Greater Des Moines
DESCRIPTION:Please join us to celebrate the new location of Sylvan of Greater Des Moines on Wednesday\, June 4th from 12-1 pm.  Ribbon cutting ceremony will take place at 12:15 pm.  This event is joint with the Johnston Chamber of Commerce.  Sylvan of Greater Des Moines is now located at 8707 Northpark Court.  Hope to see you there!
X-ALT-DESC;FMTTYPE=text/html:Please join us to celebrate the new location of Sylvan of Greater Des Moines on Wednesday\, June 4th from 12-1 pm. &nbsp\;Ribbon cutting ceremony will take place at 12:15 pm. &nbsp\;This event is joint with the Johnston Chamber of Commerce. &nbsp\;Sylvan of Greater Des Moines is now located at 8707 Northpark Court. &nbsp\;Hope to see you there!
LOCATION:8707 Northpark Court
UID:e.1185.3913
SEQUENCE:3
DTSTAMP:20260419T152933Z
URL:http://getaquote-mobile.uniquelyurbandale.com/events/details/ribbon-cutting-event-for-sylvan-of-greater-des-moines-06-04-2014-3913
END:VEVENT

END:VCALENDAR
