BEGIN:VCALENDAR
VERSION:2.0
PRODID:-//ChamberMaster//Event Calendar 2.0//EN
METHOD:PUBLISH
X-PUBLISHED-TTL:P3D
REFRESH-INTERVAL:P3D
CALSCALE:GREGORIAN
BEGIN:VEVENT
DTSTART:20150901T210000Z
DTEND:20150901T233000Z
X-MICROSOFT-CDO-ALLDAYEVENT:FALSE
SUMMARY:Ribbon cutting event for Storm Shelters of Iowa
DESCRIPTION:Please join us to celebrate the grand opening of Storm Shelters of Iowa on Tuesday\, September 1st from 4-6:30 pm.  Ribbon cutting ceremony will begin at 4:15 pm.  They are located at 1980 NW 94th Street in Clive.  Hope to see you there!
X-ALT-DESC;FMTTYPE=text/html:Please join us to celebrate the grand opening of Storm Shelters of Iowa on Tuesday\, September 1st from 4-6:30 pm. &nbsp\;Ribbon cutting ceremony will begin at 4:15 pm. &nbsp\;They are located at 1980 NW 94th Street in Clive. &nbsp\;Hope to see you there!
LOCATION:1980 NW 94th Street in Clive
UID:e.1185.4243
SEQUENCE:3
DTSTAMP:20260420T070510Z
URL:http://getaquote-mobile.uniquelyurbandale.com/events/details/ribbon-cutting-event-for-storm-shelters-of-iowa-09-01-2015-4243
END:VEVENT

END:VCALENDAR
