BEGIN:VCALENDAR
VERSION:2.0
PRODID:-//ChamberMaster//Event Calendar 2.0//EN
METHOD:PUBLISH
X-PUBLISHED-TTL:P3D
REFRESH-INTERVAL:P3D
CALSCALE:GREGORIAN
BEGIN:VEVENT
DTSTART:20140228T140000Z
DTEND:20140228T143000Z
X-MICROSOFT-CDO-ALLDAYEVENT:FALSE
SUMMARY:Ribbon cutting event for Sip Sip Bite\, LLC dba Dunkin' Donuts
DESCRIPTION:Please join us to celebrate the grand opening of Sip Sip Bite\, LLC. dba Dunkin' Donuts\, located at 4206 Merle Hay Road in Urbandale.  The event will be Friday\, February 28th from 8-8:30 am\, with ribbon cutting ceremony taking place at 8:15 am. Hope to see you there!
X-ALT-DESC;FMTTYPE=text/html:Please join us to celebrate the grand opening of&nbsp\;Sip Sip Bite\, LLC. dba Dunkin&#39\; Donuts\, located at 4206 Merle Hay Road in Urbandale. &nbsp\;The event will be Friday\, February 28th from 8-8:30 am\, with ribbon cutting ceremony taking place at 8:15 am. Hope to see you there!
LOCATION:4206 Merle Hay Road in Urbandale
UID:e.1185.3821
SEQUENCE:3
DTSTAMP:20260419T211233Z
URL:http://getaquote-mobile.uniquelyurbandale.com/events/details/ribbon-cutting-event-for-sip-sip-bite-llc-dba-dunkin-donuts-02-28-2014-3821
END:VEVENT

END:VCALENDAR
