BEGIN:VCALENDAR
VERSION:2.0
PRODID:-//ChamberMaster//Event Calendar 2.0//EN
METHOD:PUBLISH
X-PUBLISHED-TTL:P3D
REFRESH-INTERVAL:P3D
CALSCALE:GREGORIAN
BEGIN:VEVENT
DTSTART:20150528T220000Z
DTEND:20150529T000000Z
X-MICROSOFT-CDO-ALLDAYEVENT:FALSE
SUMMARY:Ribbon cutting event for Shelter Insurance-Kayla Thompson
DESCRIPTION:Please join us to celebrate the new ownership of Shelter Insurance on Thursday\, May 28th from 5-7 pm.  Ribbon cutting ceremony will take place at 5:15 pm.  The event will be located at 3969 100th Street in Urbandale (next to Yost Family Chiropractic).  Hope to see you there!
X-ALT-DESC;FMTTYPE=text/html:Please join us to celebrate the new ownership of Shelter Insurance on Thursday\, May 28th from 5-7 pm. &nbsp\;Ribbon cutting ceremony will take place at 5:15 pm. &nbsp\;The event will be located at 3969 100th Street in Urbandale (next to Yost Family Chiropractic). &nbsp\;Hope to see you there!
LOCATION:3969 100th Street in Urbandale (next to Yost Family Chiropractic)
UID:e.1185.4221
SEQUENCE:3
DTSTAMP:20260420T024626Z
URL:http://getaquote-mobile.uniquelyurbandale.com/events/details/ribbon-cutting-event-for-shelter-insurance-kayla-thompson-05-28-2015-4221
END:VEVENT

END:VCALENDAR
