BEGIN:VCALENDAR
VERSION:2.0
PRODID:-//ChamberMaster//Event Calendar 2.0//EN
METHOD:PUBLISH
X-PUBLISHED-TTL:P3D
REFRESH-INTERVAL:P3D
CALSCALE:GREGORIAN
BEGIN:VEVENT
DTSTART:20151203T230000Z
DTEND:20151204T010000Z
X-MICROSOFT-CDO-ALLDAYEVENT:FALSE
SUMMARY:Ribbon cutting event for Shade Tree Auto
DESCRIPTION:Please join us for a ribbon cutting event celebrating the 10 year anniversary of Shade Tree Auto on Thursday\, December 3rd from 5-7 pm.  Ribbon cutting will take place at 5:15 pm and they are located at 3450 SE Miehe Drive\, #5 in Grimes.  Hope to see you there!
X-ALT-DESC;FMTTYPE=text/html:Please join us for a ribbon cutting event celebrating the 10 year anniversary of Shade Tree Auto on Thursday\, December 3rd from 5-7 pm. &nbsp\;Ribbon cutting will take place at 5:15 pm and they are located at 3450 SE Miehe Drive\, #5 in Grimes. &nbsp\;Hope to see you there!
LOCATION:3450 SE Miehe Drive\, #5 in Grimes
UID:e.1185.4253
SEQUENCE:3
DTSTAMP:20260420T114339Z
URL:http://getaquote-mobile.uniquelyurbandale.com/events/details/ribbon-cutting-event-for-shade-tree-auto-12-03-2015-4253
END:VEVENT

END:VCALENDAR
