BEGIN:VCALENDAR
VERSION:2.0
PRODID:-//ChamberMaster//Event Calendar 2.0//EN
METHOD:PUBLISH
X-PUBLISHED-TTL:P3D
REFRESH-INTERVAL:P3D
CALSCALE:GREGORIAN
BEGIN:VEVENT
DTSTART:20141105T230000Z
DTEND:20141106T000000Z
X-MICROSOFT-CDO-ALLDAYEVENT:FALSE
SUMMARY:Ribbon cutting event for Sam and Louie's
DESCRIPTION:Please join us to celebrate the new ownership of Sam and Louie's on Wednesday\, November 5th from 5-6 pm.  Ribbon cutting ceremony will take place at 5:!5 pm.  They are located at 8561 Hickman Road in Urbandale. Hope to see you there!
X-ALT-DESC;FMTTYPE=text/html:Please join us to celebrate the new ownership of Sam and Louie&#39\;s on Wednesday\, November 5th from 5-6 pm. &nbsp\;Ribbon cutting ceremony will take place at 5:!5 pm. &nbsp\;They are located at 8561 Hickman Road in Urbandale. Hope to see you there!
LOCATION:8561 Hickman Road in Urbandale
UID:e.1185.4125
SEQUENCE:3
DTSTAMP:20260419T180514Z
URL:http://getaquote-mobile.uniquelyurbandale.com/events/details/ribbon-cutting-event-for-sam-and-louie-s-11-05-2014-4125
END:VEVENT

END:VCALENDAR
