BEGIN:VCALENDAR
VERSION:2.0
PRODID:-//ChamberMaster//Event Calendar 2.0//EN
METHOD:PUBLISH
X-PUBLISHED-TTL:P3D
REFRESH-INTERVAL:P3D
CALSCALE:GREGORIAN
BEGIN:VEVENT
DTSTART:20140918T210000Z
DTEND:20140918T230000Z
X-MICROSOFT-CDO-ALLDAYEVENT:FALSE
SUMMARY:Ribbon cutting event for Regus
DESCRIPTION:Please join us to celebrate the grand opening of Regus on Thursday\, September 18th from 4-6 pm.  Ribbon cutting ceremony will take place at 4:15 pm. They are now located at 6165 NW 86th Street in Johnston.
X-ALT-DESC;FMTTYPE=text/html:Please join us to celebrate the grand opening of Regus on Thursday\, September 18th from 4-6 pm. &nbsp\;Ribbon cutting ceremony will take place at 4:15 pm. They are now located at 6165 NW 86th Street in Johnston.
LOCATION:6165 NW 86th Street in Johnston
UID:e.1185.3926
SEQUENCE:3
DTSTAMP:20260419T142150Z
URL:http://getaquote-mobile.uniquelyurbandale.com/events/details/ribbon-cutting-event-for-regus-09-18-2014-3926
END:VEVENT

END:VCALENDAR
