BEGIN:VCALENDAR
VERSION:2.0
PRODID:-//ChamberMaster//Event Calendar 2.0//EN
METHOD:PUBLISH
X-PUBLISHED-TTL:P3D
REFRESH-INTERVAL:P3D
CALSCALE:GREGORIAN
BEGIN:VEVENT
DTSTART:20150505T213000Z
DTEND:20150506T013000Z
X-MICROSOFT-CDO-ALLDAYEVENT:FALSE
SUMMARY:Ribbon cutting event for R. Jones Collision 1
DESCRIPTION:Please join us for a ribbon cutting event celebrating the new ownership of R. Jones Collision 1 on Tuesday\, May 5th from 4:30-8:30 pm.  Ribbon cutting ceremony will take place at 4:45 pm.  They are located at 4416 Merle Hay Road in Des Moines.  This is a joint ribbon cutting with the Johnston and Grimes Chambers. Hope to see you there!
X-ALT-DESC;FMTTYPE=text/html:Please join us for a ribbon cutting event celebrating the new ownership of R. Jones Collision 1 on Tuesday\, May 5th from 4:30-8:30 pm. &nbsp\;Ribbon cutting ceremony will take place at 4:45 pm. &nbsp\;They are located at 4416 Merle Hay Road in Des Moines. &nbsp\;This is a joint ribbon cutting with the Johnston and Grimes Chambers.&nbsp\;Hope to see you there!
LOCATION:4416 Merle Hay Road in Des Moines
UID:e.1185.4189
SEQUENCE:3
DTSTAMP:20260420T012747Z
URL:http://getaquote-mobile.uniquelyurbandale.com/events/details/ribbon-cutting-event-for-r-jones-collision-1-05-05-2015-4189
END:VEVENT

END:VCALENDAR
