BEGIN:VCALENDAR
VERSION:2.0
PRODID:-//ChamberMaster//Event Calendar 2.0//EN
METHOD:PUBLISH
X-PUBLISHED-TTL:P3D
REFRESH-INTERVAL:P3D
CALSCALE:GREGORIAN
BEGIN:VEVENT
DTSTART:20141007T150000Z
DTEND:20141007T160000Z
X-MICROSOFT-CDO-ALLDAYEVENT:FALSE
SUMMARY:Ribbon Cutting event for Prime Lending
DESCRIPTION:Please join us to celebrate the new location of Prime Lending on Tuesday\, October 7th from 10-11 am. Ribbon cutting ceremony will take place at 10:15 am. They are located at 10647 Justin Dr. in Urbandale.
X-ALT-DESC;FMTTYPE=text/html:<span style="font-family:arial\,sans-serif\;"><span style="font-size:9.0pt\;">Please join us to celebrate the new location of&nbsp\;Prime Lending on Tuesday\, October 7th&nbsp\;from 10-11 am. Ribbon cutting ceremony will take place at 10:15 am. They are located at 10647 Justin Dr. in Urbandale.</span></span>
LOCATION:10647 Justin Dr. in Urbandale
UID:e.1185.3936
SEQUENCE:3
DTSTAMP:20260419T152636Z
URL:http://getaquote-mobile.uniquelyurbandale.com/events/details/ribbon-cutting-event-for-prime-lending-10-07-2014-3936
END:VEVENT

END:VCALENDAR
