BEGIN:VCALENDAR
VERSION:2.0
PRODID:-//ChamberMaster//Event Calendar 2.0//EN
METHOD:PUBLISH
X-PUBLISHED-TTL:P3D
REFRESH-INTERVAL:P3D
CALSCALE:GREGORIAN
BEGIN:VEVENT
DTSTART:20140514T170000Z
DTEND:20140514T180000Z
X-MICROSOFT-CDO-ALLDAYEVENT:FALSE
SUMMARY:Ribbon cutting event for Premier
DESCRIPTION:Please join us to celebrate the name change\, new logo and expansion of Premier on Wednesday\, May 14th from 12-1 pm.  Ribbon cutting ceremony will begin at 12:15 pm.  They are located at 2900 Justin Drive\, Ste A&B in Urbandale.  Hope to see you there!
X-ALT-DESC;FMTTYPE=text/html:Please join us to celebrate the name change\, new logo and expansion of Premier on Wednesday\, May 14th from 12-1 pm. &nbsp\;Ribbon cutting ceremony will begin at 12:15 pm. &nbsp\;They are located at 2900 Justin Drive\, Ste A&amp\;B in Urbandale. &nbsp\;Hope to see you there!
LOCATION:2900 Justin Drive\, Ste A&B in Urbandale
UID:e.1185.3910
SEQUENCE:3
DTSTAMP:20260419T165110Z
URL:http://getaquote-mobile.uniquelyurbandale.com/events/details/ribbon-cutting-event-for-premier-05-14-2014-3910
END:VEVENT

END:VCALENDAR
