BEGIN:VCALENDAR
VERSION:2.0
PRODID:-//ChamberMaster//Event Calendar 2.0//EN
METHOD:PUBLISH
X-PUBLISHED-TTL:P3D
REFRESH-INTERVAL:P3D
CALSCALE:GREGORIAN
BEGIN:VEVENT
DTSTART:20141114T220000Z
DTEND:20141115T000000Z
X-MICROSOFT-CDO-ALLDAYEVENT:FALSE
SUMMARY:Ribbon cutting event for Prairie View Animal Hospital
DESCRIPTION:Please join us to celebrate the one year anniversary of Prairie View Animal Hospital on Friday\, November 14th from 4-6 pm.  Ribbon cutting ceremony will take place at 4:15 pm.  They are located at 1830 SE Princeton Drive\, Ste A in Grimes.  Hope to see you there!
X-ALT-DESC;FMTTYPE=text/html:Please join us to celebrate the one year anniversary of Prairie View Animal Hospital on Friday\, November 14th from 4-6 pm. &nbsp\;Ribbon cutting ceremony will take place at 4:15 pm. &nbsp\;They are located at 1830 SE Princeton Drive\, Ste A in Grimes. &nbsp\;Hope to see you there!
LOCATION:1830 SE Princeton Drive\, Ste A in Grimes
UID:e.1185.3940
SEQUENCE:3
DTSTAMP:20260419T180022Z
URL:http://getaquote-mobile.uniquelyurbandale.com/events/details/ribbon-cutting-event-for-prairie-view-animal-hospital-11-14-2014-3940
END:VEVENT

END:VCALENDAR
