BEGIN:VCALENDAR
VERSION:2.0
PRODID:-//ChamberMaster//Event Calendar 2.0//EN
METHOD:PUBLISH
X-PUBLISHED-TTL:P3D
REFRESH-INTERVAL:P3D
CALSCALE:GREGORIAN
BEGIN:VEVENT
DTSTART:20150602T170000Z
DTEND:20150602T180000Z
X-MICROSOFT-CDO-ALLDAYEVENT:FALSE
SUMMARY:Ribbon cutting event for Power Life Yoga
DESCRIPTION:Please join us to celebrate the one year anniversary of Power Life Yoga on Tuesday\, June 2 from 12-1 pm.  Ribbon cutting ceremony will take place at 12:15 pm.  Power Life Yoga is located at 8801 Northpark Court in Urbandale. This event is joint with the Johnston Chamber of Commerce. Hope to see you there!
X-ALT-DESC;FMTTYPE=text/html:Please join us to celebrate the one year anniversary of Power Life Yoga on Tuesday\, June 2 from 12-1 pm. &nbsp\;Ribbon cutting ceremony will take place at 12:15 pm. &nbsp\;Power Life Yoga is located at 8801 Northpark Court in Urbandale. This event is joint with the Johnston Chamber of Commerce. Hope to see you there!
LOCATION:8801 Northpark Court in Urbandale
UID:e.1185.4231
SEQUENCE:3
DTSTAMP:20260420T024610Z
URL:http://getaquote-mobile.uniquelyurbandale.com/events/details/ribbon-cutting-event-for-power-life-yoga-06-02-2015-4231
END:VEVENT

END:VCALENDAR
