BEGIN:VCALENDAR
VERSION:2.0
PRODID:-//ChamberMaster//Event Calendar 2.0//EN
METHOD:PUBLISH
X-PUBLISHED-TTL:P3D
REFRESH-INTERVAL:P3D
CALSCALE:GREGORIAN
BEGIN:VEVENT
DTSTART:20141204T223000Z
DTEND:20141205T003000Z
X-MICROSOFT-CDO-ALLDAYEVENT:FALSE
SUMMARY:Ribbon cutting event for Peterson Financial Group
DESCRIPTION:Please join us to celebrate the one year anniversary (of their new location) for Peterson Financial Group on Thursday\, December 4th from 4:30-6:30 pm.  Ribbon cutting ceremony will take place at 4:45 pm.  They are located at 1011 Office Park Road\, Ste 4 in West Des Moines. Hope to see you there!
X-ALT-DESC;FMTTYPE=text/html:Please join us to celebrate the one year anniversary (of their new location) for Peterson Financial Group on Thursday\, December 4th from 4:30-6:30 pm. &nbsp\;Ribbon cutting ceremony will take place at 4:45 pm. &nbsp\;They are located at 1011 Office Park Road\, Ste 4 in West Des Moines. Hope to see you there!
LOCATION:1011 Office Park Road\, Ste 4 in West Des Moines
UID:e.1185.4145
SEQUENCE:3
DTSTAMP:20260419T175814Z
URL:http://getaquote-mobile.uniquelyurbandale.com/events/details/ribbon-cutting-event-for-peterson-financial-group-12-04-2014-4145
END:VEVENT

END:VCALENDAR
