BEGIN:VCALENDAR
VERSION:2.0
PRODID:-//ChamberMaster//Event Calendar 2.0//EN
METHOD:PUBLISH
X-PUBLISHED-TTL:P3D
REFRESH-INTERVAL:P3D
CALSCALE:GREGORIAN
BEGIN:VEVENT
DTSTART:20150226T230000Z
DTEND:20150227T020000Z
X-MICROSOFT-CDO-ALLDAYEVENT:FALSE
SUMMARY:Ribbon cutting event for Pet Medical Center of Urbandale
DESCRIPTION:Please join us to celebrate the grand opening of Pet Medical Center of Urbandale on Thursday\, February 26th from 5-8 pm.  Ribbon cutting ceremony will take place at 5:15 pm.  They are located at 4450 128th Street in Urbandale.  Hope to see you there!
X-ALT-DESC;FMTTYPE=text/html:Please join us to celebrate the grand opening of Pet Medical Center of Urbandale on Thursday\, February 26th from 5-8 pm. &nbsp\;Ribbon cutting ceremony will take place at 5:15 pm. &nbsp\;They are located at 4450 128th Street in Urbandale. &nbsp\;Hope to see you there!
LOCATION:4450 128th Street in Urbandale
UID:e.1185.4171
SEQUENCE:3
DTSTAMP:20260419T222603Z
URL:http://getaquote-mobile.uniquelyurbandale.com/events/details/ribbon-cutting-event-for-pet-medical-center-of-urbandale-02-26-2015-4171
END:VEVENT

END:VCALENDAR
