BEGIN:VCALENDAR
VERSION:2.0
PRODID:-//ChamberMaster//Event Calendar 2.0//EN
METHOD:PUBLISH
X-PUBLISHED-TTL:P3D
REFRESH-INTERVAL:P3D
CALSCALE:GREGORIAN
BEGIN:VEVENT
DTSTART:20140718T210000Z
DTEND:20140718T220000Z
X-MICROSOFT-CDO-ALLDAYEVENT:FALSE
SUMMARY:Ribbon cutting event for Park Place Catering
DESCRIPTION:Join us to celebrate the five year anniversary of Park Place Catering on Friday\, July 18th from 4-5 pm.  Ribbon cutting ceremony will take place at 4:15 pm.  The event will be held at Park Place Event Center\, located at 1015 Riverside Drive in Adel.  Hope to see you there!
X-ALT-DESC;FMTTYPE=text/html:Join us to celebrate the five year anniversary of Park Place Catering on Friday\, July 18th from 4-5 pm. &nbsp\;Ribbon cutting ceremony will take place at 4:15 pm. &nbsp\;The event will be held at Park Place Event Center\, located at 1015 Riverside Drive in Adel. &nbsp\;Hope to see you there!
LOCATION:Place Event Center\, located at 1015 Riverside Drive in Adel
UID:e.1185.3909
SEQUENCE:3
DTSTAMP:20260419T142139Z
URL:http://getaquote-mobile.uniquelyurbandale.com/events/details/ribbon-cutting-event-for-park-place-catering-07-18-2014-3909
END:VEVENT

END:VCALENDAR
