BEGIN:VCALENDAR
VERSION:2.0
PRODID:-//ChamberMaster//Event Calendar 2.0//EN
METHOD:PUBLISH
X-PUBLISHED-TTL:P3D
REFRESH-INTERVAL:P3D
CALSCALE:GREGORIAN
BEGIN:VEVENT
DTSTART:20140915T220000Z
DTEND:20140915T230000Z
X-MICROSOFT-CDO-ALLDAYEVENT:FALSE
SUMMARY:Ribbon Cutting event for Overtime Neighborhood Hub Sports & Grub
DESCRIPTION:Please join us to celebrate the new owners of Overtime Neighborhood Hub Sports & Grub on Monday\, September 15th from 5-6 pm. Ribbon cutting ceremony will take place at 5:15 pm. They are located at 4810 NW 86th Street in Urbandale.
X-ALT-DESC;FMTTYPE=text/html:Please join us to celebrate the new owners of&nbsp\;Overtime Neighborhood Hub Sports &amp\; Grub on Monday\, September&nbsp\;15th&nbsp\;from 5-6 pm. Ribbon cutting ceremony will take place at 5:15 pm. They are located at 4810 NW&nbsp\;86th&nbsp\;Street in Urbandale.
LOCATION:4810 NW 86th Street in Urbandale
UID:e.1185.3935
SEQUENCE:3
DTSTAMP:20260419T153054Z
URL:http://getaquote-mobile.uniquelyurbandale.com/events/details/ribbon-cutting-event-for-overtime-neighborhood-hub-sports-grub-09-15-2014-3935
END:VEVENT

END:VCALENDAR
