BEGIN:VCALENDAR
VERSION:2.0
PRODID:-//ChamberMaster//Event Calendar 2.0//EN
METHOD:PUBLISH
X-PUBLISHED-TTL:P3D
REFRESH-INTERVAL:P3D
CALSCALE:GREGORIAN
BEGIN:VEVENT
DTSTART:20150320T210000Z
DTEND:20150321T000000Z
X-MICROSOFT-CDO-ALLDAYEVENT:FALSE
SUMMARY:Ribbon cutting event for Overtime Beerhouse
DESCRIPTION:Please join us to celebrate the grand re-opening of Overtime Beerhouse on Friday\, March 20th from 4-7 pm.  Ribbon cutting ceremony will take place at 5:15 pm.  Overtime is located at 4810 86th Street in Urbandale!
X-ALT-DESC;FMTTYPE=text/html:Please join us to celebrate the grand re-opening of Overtime Beerhouse on Friday\, March 20th from 4-7 pm. &nbsp\;Ribbon cutting ceremony will take place at 5:15 pm. &nbsp\;Overtime is located at 4810 86th Street in Urbandale!
LOCATION:4810 86th Street in Urbandale
UID:e.1185.4209
SEQUENCE:3
DTSTAMP:20260419T222413Z
URL:http://getaquote-mobile.uniquelyurbandale.com/events/details/ribbon-cutting-event-for-overtime-beerhouse-03-20-2015-4209
END:VEVENT

END:VCALENDAR
