BEGIN:VCALENDAR
VERSION:2.0
PRODID:-//ChamberMaster//Event Calendar 2.0//EN
METHOD:PUBLISH
X-PUBLISHED-TTL:P3D
REFRESH-INTERVAL:P3D
CALSCALE:GREGORIAN
BEGIN:VEVENT
DTSTART:20150818T170000Z
DTEND:20150818T180000Z
X-MICROSOFT-CDO-ALLDAYEVENT:FALSE
SUMMARY:Ribbon cutting event for Orangetheory Fitness
DESCRIPTION:Please join us to celebrate the grand opening of Orangetheory Fitness on Tuesday\, August 18th from 12-1 pm.  Ribbon cutting ceremony will take place at 12:15 pm and they are located at 2181 NW 111th Street in Clive.  Hope to see you there!
X-ALT-DESC;FMTTYPE=text/html:Please join us to celebrate the grand opening of Orangetheory Fitness on Tuesday\, August 18th from 12-1 pm. &nbsp\;Ribbon cutting ceremony will take place at 12:15 pm and they are located at 2181 NW 111th Street in Clive. &nbsp\;Hope to see you there!
LOCATION:2181 NW 111th Street in Clive
UID:e.1185.4240
SEQUENCE:3
DTSTAMP:20260420T054512Z
URL:http://getaquote-mobile.uniquelyurbandale.com/events/details/ribbon-cutting-event-for-orangetheory-fitness-08-18-2015-4240
END:VEVENT

END:VCALENDAR
