BEGIN:VCALENDAR
VERSION:2.0
PRODID:-//ChamberMaster//Event Calendar 2.0//EN
METHOD:PUBLISH
X-PUBLISHED-TTL:P3D
REFRESH-INTERVAL:P3D
CALSCALE:GREGORIAN
BEGIN:VEVENT
DTSTART:20141020T220000Z
DTEND:20141020T233000Z
X-MICROSOFT-CDO-ALLDAYEVENT:FALSE
SUMMARY:Ribbon cutting event for Optimum Performance Physical Therapy\, LLC and Iron Works Athletics
DESCRIPTION:Please join us to celebrate the Grand Opening of TWO businesses: Optimum Performance Physical Therapy\, LLC\, and Iron Works Athletics.  The joint celebration will be held on Monday\, October 20th from 5-6:30 pm. Ribbon cutting ceremony will take place at 5:15 pm. They are both located at 3980 NW Urbandale Dr in Urbandale.
X-ALT-DESC;FMTTYPE=text/html:<span style="font-size: 12.8000001907349px\; line-height: 16.6399993896484px\;">Please join us to celebrate the Grand Opening of TWO businesses: Optimum Performance Physical Therapy\, LLC\, and Iron Works Athletics. &nbsp\;The joint celebration will be held on Monday\, October&nbsp\;</span><span style="font-size: 12.8000001907349px\; line-height: 16.6399993896484px\;">20</span>th<span style="font-size: 12.8000001907349px\; line-height: 16.6399993896484px\;">&nbsp\;from 5-6:30 pm. Ribbon cutting ceremony will take place at 5:15 pm. They are both located at 3980 NW Urbandale Dr</span><span style="font-size: 12.8000001907349px\; line-height: 16.6399993896484px\;">&nbsp\;in&nbsp\;</span>Urbandale<span style="font-size: 12.8000001907349px\; line-height: 16.6399993896484px\;">.</span>
LOCATION:3980 NW Urbandale Dr in Urbandale
UID:e.1185.3937
SEQUENCE:3
DTSTAMP:20260419T152722Z
URL:http://getaquote-mobile.uniquelyurbandale.com/events/details/ribbon-cutting-event-for-optimum-performance-physical-therapy-llc-and-iron-works-athletics-10-20-2014-3937
END:VEVENT

END:VCALENDAR
