BEGIN:VCALENDAR
VERSION:2.0
PRODID:-//ChamberMaster//Event Calendar 2.0//EN
METHOD:PUBLISH
X-PUBLISHED-TTL:P3D
REFRESH-INTERVAL:P3D
CALSCALE:GREGORIAN
BEGIN:VEVENT
DTSTART:20150918T163000Z
DTEND:20150918T173000Z
X-MICROSOFT-CDO-ALLDAYEVENT:FALSE
SUMMARY:Ribbon cutting event for Mosaic in Central Iowa
DESCRIPTION:Please join us for a ribbon cutting event celebrating the name change and agency expansion for Mosaic in Central Iowa on Friday\, September 18th from 11:30-12:30 pm.  Ribbon cutting ceremony will take place at 11:45 am and they are located at 11141 Aurora Ave in Urbandale!  Hope to see you there!
X-ALT-DESC;FMTTYPE=text/html:Please join us for a ribbon cutting event celebrating the name change and agency expansion for Mosaic in Central Iowa on Friday\, September 18th from 11:30-12:30 pm. &nbsp\;Ribbon cutting ceremony will take place at 11:45 am and they are located at 11141 Aurora Ave in Urbandale! &nbsp\;Hope to see you there!
LOCATION:11141 Aurora Ave in Urbandale
UID:e.1185.4242
SEQUENCE:3
DTSTAMP:20260420T070430Z
URL:http://getaquote-mobile.uniquelyurbandale.com/events/details/ribbon-cutting-event-for-mosaic-in-central-iowa-09-18-2015-4242
END:VEVENT

END:VCALENDAR
