BEGIN:VCALENDAR
VERSION:2.0
PRODID:-//ChamberMaster//Event Calendar 2.0//EN
METHOD:PUBLISH
X-PUBLISHED-TTL:P3D
REFRESH-INTERVAL:P3D
CALSCALE:GREGORIAN
BEGIN:VEVENT
DTSTART:20140501T210000Z
DTEND:20140501T230000Z
X-MICROSOFT-CDO-ALLDAYEVENT:FALSE
SUMMARY:Ribbon cutting event for Mokosak Advisory Group\, LLC
DESCRIPTION:Join us to celebrate the new location of Mokosak Advisory Group\, LLC on Thursday\, May 1st from 4-6 pm.  Ribbon cutting ceremony will take place at 4:15 pm.  They are now located at 2900 100th Street\, Ste 102 in Urbandale.  Hope to see you there!
X-ALT-DESC;FMTTYPE=text/html:Join us to celebrate the new location of Mokosak Advisory Group\, LLC on Thursday\, May 1st&nbsp\;from 4-6 pm. &nbsp\;Ribbon cutting ceremony will take place at 4:15 pm. &nbsp\;They are now located at 2900 100th Street\, Ste 102 in Urbandale. &nbsp\;Hope to see you there!
LOCATION:2900 100th Street\, Ste 102 in Urbandale
UID:e.1185.3902
SEQUENCE:3
DTSTAMP:20260419T165043Z
URL:http://getaquote-mobile.uniquelyurbandale.com/events/details/ribbon-cutting-event-for-mokosak-advisory-group-llc-05-01-2014-3902
END:VEVENT

END:VCALENDAR
