BEGIN:VCALENDAR
VERSION:2.0
PRODID:-//ChamberMaster//Event Calendar 2.0//EN
METHOD:PUBLISH
X-PUBLISHED-TTL:P3D
REFRESH-INTERVAL:P3D
CALSCALE:GREGORIAN
BEGIN:VEVENT
DTSTART:20150910T211500Z
DTEND:20150911T000000Z
X-MICROSOFT-CDO-ALLDAYEVENT:FALSE
SUMMARY:Ribbon cutting event for Modern Touches
DESCRIPTION:Please join us for a ribbon cutting event for Modern Touches\, celebrating their five year anniversary!  The event will be held on Thursday\, September 10th from 4:15-7:00 pm.  Ribbon cutting ceremony will begin at 4:30 pm.  They are located at 6781 Hickman Road in Urbandale.  Hope to see you there!
X-ALT-DESC;FMTTYPE=text/html:Please join us for a ribbon cutting event for Modern Touches\, celebrating their five year anniversary! &nbsp\;The event will be held on Thursday\, September 10th from 4:15-7:00 pm. &nbsp\;Ribbon cutting ceremony will begin at 4:30 pm. &nbsp\;They are located at 6781 Hickman Road in Urbandale. &nbsp\;Hope to see you there!
LOCATION:6781 Hickman Road in Urbandale
UID:e.1185.4241
SEQUENCE:3
DTSTAMP:20260420T070136Z
URL:http://getaquote-mobile.uniquelyurbandale.com/events/details/ribbon-cutting-event-for-modern-touches-09-10-2015-4241
END:VEVENT

END:VCALENDAR
