BEGIN:VCALENDAR
VERSION:2.0
PRODID:-//ChamberMaster//Event Calendar 2.0//EN
METHOD:PUBLISH
X-PUBLISHED-TTL:P3D
REFRESH-INTERVAL:P3D
CALSCALE:GREGORIAN
BEGIN:VEVENT
DTSTART:20140904T213000Z
DTEND:20140904T230000Z
X-MICROSOFT-CDO-ALLDAYEVENT:FALSE
SUMMARY:Ribbon Cutting Event for Mid Iowa Chiropractic
DESCRIPTION:Please join us to celebrate the new location for Mid Iowa Chiropractic\, on Thursday\, September 4th.  They are having an open house from 4:30 pm - 6:00 pm with ribbon cutting ceremony at 4:45pm.  They are now located at 2765 86th Street in Urbandale.  Hope to see you there!
X-ALT-DESC;FMTTYPE=text/html:Please join us to celebrate the new location for Mid Iowa Chiropractic\, on Thursday\, September 4th. &nbsp\;They are having an open house from 4:30 pm - 6:00 pm with ribbon cutting ceremony at 4:45pm. &nbsp\;They are now located at 2765 86th Street in&nbsp\;Urbandale. &nbsp\;Hope to see you there!
LOCATION:2765 86th Street in Urbandale
UID:e.1185.3931
SEQUENCE:3
DTSTAMP:20260419T152815Z
URL:http://getaquote-mobile.uniquelyurbandale.com/events/details/ribbon-cutting-event-for-mid-iowa-chiropractic-09-04-2014-3931
END:VEVENT

END:VCALENDAR
