BEGIN:VCALENDAR
VERSION:2.0
PRODID:-//ChamberMaster//Event Calendar 2.0//EN
METHOD:PUBLISH
X-PUBLISHED-TTL:P3D
REFRESH-INTERVAL:P3D
CALSCALE:GREGORIAN
BEGIN:VEVENT
DTSTART:20140516T164500Z
DTEND:20140516T180000Z
X-MICROSOFT-CDO-ALLDAYEVENT:FALSE
SUMMARY:Ribbon cutting event for Medicap Pharmacy
DESCRIPTION:Please join us to celebrate the new location of Medicap Pharmacy on Friday\, May 16th from 11:45 am to 1:00 pm.  Ribbon cutting ceremony will take place at 12:15 pm.  The new location is 8170 Douglas Ave in Urbandale.  Hope to see you there!
X-ALT-DESC;FMTTYPE=text/html:Please join us to celebrate the new location of Medicap Pharmacy on Friday\, May 16th from 11:45 am to 1:00 pm. &nbsp\;Ribbon cutting ceremony will take place at 12:15 pm. &nbsp\;The new location is 8170 Douglas Ave in Urbandale. &nbsp\;Hope to see you there!
LOCATION:8170 Douglas Ave in Urbandale
UID:e.1185.3898
SEQUENCE:3
DTSTAMP:20260419T180606Z
URL:http://getaquote-mobile.uniquelyurbandale.com/events/details/ribbon-cutting-event-for-medicap-pharmacy-05-16-2014-3898
END:VEVENT

END:VCALENDAR
