BEGIN:VCALENDAR
VERSION:2.0
PRODID:-//ChamberMaster//Event Calendar 2.0//EN
METHOD:PUBLISH
X-PUBLISHED-TTL:P3D
REFRESH-INTERVAL:P3D
CALSCALE:GREGORIAN
BEGIN:VEVENT
DTSTART:20151117T230000Z
DTEND:20151118T010000Z
X-MICROSOFT-CDO-ALLDAYEVENT:FALSE
SUMMARY:Ribbon cutting event for Massage United
DESCRIPTION:Please join us to celebrate the grand opening of Massage United on Tuesday\, November 17th from 5-7 pm.  Ribbon cutting ceremony will take place at 5:15 pm and they are located at 5911 Meredith Drive\, Ste A in Urbandale.  Hope to see you there!
X-ALT-DESC;FMTTYPE=text/html:Please join us to celebrate the grand opening of Massage United on Tuesday\, November 17th from 5-7 pm. &nbsp\;Ribbon cutting ceremony will take place at 5:15 pm and they are located at 5911 Meredith Drive\, Ste A in Urbandale. &nbsp\;Hope to see you there!
LOCATION:5911 Meredith Drive\, Ste A in Urbandale
UID:e.1185.4261
SEQUENCE:3
DTSTAMP:20260422T085024Z
URL:http://getaquote-mobile.uniquelyurbandale.com/events/details/ribbon-cutting-event-for-massage-united-11-17-2015-4261
END:VEVENT

END:VCALENDAR
