BEGIN:VCALENDAR
VERSION:2.0
PRODID:-//ChamberMaster//Event Calendar 2.0//EN
METHOD:PUBLISH
X-PUBLISHED-TTL:P3D
REFRESH-INTERVAL:P3D
CALSCALE:GREGORIAN
BEGIN:VEVENT
DTSTART:20140522T210000Z
DTEND:20140522T230000Z
X-MICROSOFT-CDO-ALLDAYEVENT:FALSE
SUMMARY:Ribbon cutting event for Marco Inc.
DESCRIPTION:Please join us to celebrate the new location of Marco Inc. on Thursday\, May 22nd from 4-6 pm.  Ribbon cutting ceremony will take place at 4:15 pm.  They are now located at 4709 121st Street in Urbandale. Hope to see you there!
X-ALT-DESC;FMTTYPE=text/html:Please join us to celebrate the new location of Marco Inc. on Thursday\, May 22nd from 4-6 pm. &nbsp\;Ribbon cutting ceremony will take place at 4:15 pm. &nbsp\;They are now located at 4709 121st Street in Urbandale. Hope to see you there!
LOCATION:4709 121st Street in Urbandale
UID:e.1185.3899
SEQUENCE:3
DTSTAMP:20260419T175804Z
URL:http://getaquote-mobile.uniquelyurbandale.com/events/details/ribbon-cutting-event-for-marco-inc-05-22-2014-3899
END:VEVENT

END:VCALENDAR
