BEGIN:VCALENDAR
VERSION:2.0
PRODID:-//ChamberMaster//Event Calendar 2.0//EN
METHOD:PUBLISH
X-PUBLISHED-TTL:P3D
REFRESH-INTERVAL:P3D
CALSCALE:GREGORIAN
BEGIN:VEVENT
DTSTART:20150624T200000Z
DTEND:20150624T230000Z
X-MICROSOFT-CDO-ALLDAYEVENT:FALSE
SUMMARY:Ribbon cutting event for Liberty National Bank
DESCRIPTION:Please join us to celebrate the grand opening of Liberty National Bank on Wednesday\, June 24th from 3-6 pm.  Ribbon cutting will take place at 5:00 pm.  They are located at 5260 NW 86th Street in Johnston.  This event is joint with the Johnston Chamber of Commerce.  Hope to see you there!
X-ALT-DESC;FMTTYPE=text/html:Please join us to celebrate the grand opening of Liberty National Bank on Wednesday\, June 24th from 3-6 pm. &nbsp\;Ribbon cutting will take place at 5:00&nbsp\;pm. &nbsp\;They are located at 5260 NW 86th Street in Johnston. &nbsp\;This event is joint with the Johnston Chamber of Commerce. &nbsp\;Hope to see you there!
LOCATION:5260 NW 86th Street in Johnston
UID:e.1185.4234
SEQUENCE:3
DTSTAMP:20260420T024626Z
URL:http://getaquote-mobile.uniquelyurbandale.com/events/details/ribbon-cutting-event-for-liberty-national-bank-06-24-2015-4234
END:VEVENT

END:VCALENDAR
