BEGIN:VCALENDAR
VERSION:2.0
PRODID:-//ChamberMaster//Event Calendar 2.0//EN
METHOD:PUBLISH
X-PUBLISHED-TTL:P3D
REFRESH-INTERVAL:P3D
CALSCALE:GREGORIAN
BEGIN:VEVENT
DTSTART:20151001T220000Z
DTEND:20151001T230000Z
X-MICROSOFT-CDO-ALLDAYEVENT:FALSE
SUMMARY:Ribbon cutting event for Lakeside Hotel and Casino
DESCRIPTION:Please join us to celebrate the 15 year anniversary of Lakeside Hotel and Casino on Thursday\, October 1st from 5-6 pm.  Ribbon cutting ceremony will begin at 5:15 pm.  They are located at 777 Casino Drive in Osceola.  This event will be joint with the West Des Moines Chamber of Commerce. \n\n\n\nGrab some friends/family and carpool down and make it a great night!
X-ALT-DESC;FMTTYPE=text/html:Please join us to celebrate the 15 year anniversary of Lakeside Hotel and Casino on Thursday\, October 1st from 5-6 pm. &nbsp\;Ribbon cutting ceremony will begin at 5:15 pm. &nbsp\;They are located at 777 Casino Drive in Osceola. &nbsp\;This event will be joint with the West Des Moines Chamber of Commerce.&nbsp\;<br />\n<br />\nGrab some friends/family and carpool down and make it a great night!
LOCATION:777 Casino Drive in Osceola
UID:e.1185.4246
SEQUENCE:3
DTSTAMP:20260420T084403Z
URL:http://getaquote-mobile.uniquelyurbandale.com/events/details/ribbon-cutting-event-for-lakeside-hotel-and-casino-10-01-2015-4246
END:VEVENT

END:VCALENDAR
